BEGIN:VCALENDAR
VERSION:2.0
PRODID:-//Briarwood Presbyterian Church, PCA - ECPv6.5.1//NONSGML v1.0//EN
CALSCALE:GREGORIAN
METHOD:PUBLISH
X-WR-CALNAME:Briarwood Presbyterian Church, PCA
X-ORIGINAL-URL:https://briarwood.org
X-WR-CALDESC:Events for Briarwood Presbyterian Church, PCA
REFRESH-INTERVAL;VALUE=DURATION:PT1H
X-Robots-Tag:noindex
X-PUBLISHED-TTL:PT1H
BEGIN:VTIMEZONE
TZID:America/Chicago
BEGIN:DAYLIGHT
TZOFFSETFROM:-0600
TZOFFSETTO:-0500
TZNAME:CDT
DTSTART:20120311T080000
END:DAYLIGHT
BEGIN:STANDARD
TZOFFSETFROM:-0500
TZOFFSETTO:-0600
TZNAME:CST
DTSTART:20121104T070000
END:STANDARD
BEGIN:DAYLIGHT
TZOFFSETFROM:-0600
TZOFFSETTO:-0500
TZNAME:CDT
DTSTART:20130310T080000
END:DAYLIGHT
BEGIN:STANDARD
TZOFFSETFROM:-0500
TZOFFSETTO:-0600
TZNAME:CST
DTSTART:20131103T070000
END:STANDARD
BEGIN:DAYLIGHT
TZOFFSETFROM:-0600
TZOFFSETTO:-0500
TZNAME:CDT
DTSTART:20140309T080000
END:DAYLIGHT
BEGIN:STANDARD
TZOFFSETFROM:-0500
TZOFFSETTO:-0600
TZNAME:CST
DTSTART:20141102T070000
END:STANDARD
BEGIN:DAYLIGHT
TZOFFSETFROM:-0600
TZOFFSETTO:-0500
TZNAME:CDT
DTSTART:20150308T080000
END:DAYLIGHT
BEGIN:STANDARD
TZOFFSETFROM:-0500
TZOFFSETTO:-0600
TZNAME:CST
DTSTART:20151101T070000
END:STANDARD
BEGIN:DAYLIGHT
TZOFFSETFROM:-0600
TZOFFSETTO:-0500
TZNAME:CDT
DTSTART:20160313T080000
END:DAYLIGHT
BEGIN:STANDARD
TZOFFSETFROM:-0500
TZOFFSETTO:-0600
TZNAME:CST
DTSTART:20161106T070000
END:STANDARD
END:VTIMEZONE
BEGIN:VEVENT
DTSTART;TZID=America/Chicago:20160324T190000
DTEND;TZID=America/Chicago:20160324T200000
DTSTAMP:20260421T084359
CREATED:20140328T015821Z
LAST-MODIFIED:20160316T202332Z
UID:16455-1458846000-1458849600@briarwood.org
SUMMARY:Maundy Thursday Service
DESCRIPTION:Communion at the Table
URL:https://briarwood.org/event/maundy-thursday/
LOCATION:Worship Center\, 2200 Briarwood Way\, Birmingham\, 45243\, United States
CATEGORIES:Weekly Calendar
END:VEVENT
BEGIN:VEVENT
DTSTART;TZID=America/Chicago:20151220T193000
DTEND;TZID=America/Chicago:20151220T213000
DTSTAMP:20260421T084359
CREATED:20150915T185202Z
LAST-MODIFIED:20151212T145532Z
UID:25535-1450639800-1450647000@briarwood.org
SUMMARY:"JOY! An Irish Christmas"
DESCRIPTION:CHRISTMAS WITH KEITH AND KRISTYN GETTY\nDon’t miss this exciting holiday celebration with Keith\, Kristyn\, their musicians\, the Briarwood Chancel Choir and Festival Orchestra. \nYour Christmas won’t be the same without it! \nNo admission fee\, a love offering will be taken. Doors will open at 6:30 p.m. for general seating. \nMake required nursery reservations  for 2 months old through K5 at the nursery page. \nClick here or on the image above for a video preview of this concert.
URL:https://briarwood.org/event/irish-christmas/
LOCATION:Worship Center\, 2200 Briarwood Way\, Birmingham\, 45243\, United States
CATEGORIES:Weekly Calendar
ORGANIZER;CN="Clay Campbell":MAILTO:ccampbell@briarwood.org
END:VEVENT
BEGIN:VEVENT
DTSTART;TZID=America/Chicago:20151213T180000
DTEND;TZID=America/Chicago:20151213T193000
DTSTAMP:20260421T084359
CREATED:20151212T144041Z
LAST-MODIFIED:20151212T145343Z
UID:26508-1450029600-1450035000@briarwood.org
SUMMARY:"Eternal Light"
DESCRIPTION:BRIARWOOD BALLET with Hosanna Sacred Arts\nLong before the angelic proclamation to the hillside shepherds\, the Promise of Christmas was in the heart of God. First whispered in the Garden\, then echoed by the prophets\, this Promise was finally declared from the sky above Bethlehem in brilliant light. \nCome celebrate the Eternal Light of God that has come into our world – indeed into our own hearts. \nThere will be no admission fee. Nursery reservations required for 2-months-old through K5. Click here to make your nursery reservation.
URL:https://briarwood.org/event/eternal-light/
LOCATION:Worship Center\, 2200 Briarwood Way\, Birmingham\, 45243\, United States
CATEGORIES:Weekly Calendar
END:VEVENT
BEGIN:VEVENT
DTSTART;TZID=America/Chicago:20151001T190000
DTEND;TZID=America/Chicago:20151001T203000
DTSTAMP:20260421T084359
CREATED:20150915T184847Z
LAST-MODIFIED:20150915T184847Z
UID:25534-1443726000-1443731400@briarwood.org
SUMMARY:KIEV  Concert
DESCRIPTION:KIEV SYMPHONY ORCHESTRA AND CHORUS\nMany Americans trace their ancestry in some way to Ukraine. Recent instability\, invasion\, war and suffering in Ukraine leave Americans wondering; “What’s really happening in Ukraine\,” “How can we help? How can we pray?” Music Mission Kiev (MMK) has been on the front line of ministry in Ukraine for over 24 years\, including these recent months of trauma and foreign invasion. MMK has seen\, touched\, smelled and experienced the recent horrors\, wounds and tears. Wes and Kim Janzen will bring 42 fabulous Ukrainian musicians from the Kiev Symphony Orchestra and Chorus (KSOC) to Briarwood to share a sacred concert and stories of God’s grace. You won’t want to miss it…you will be blessed!\nNo admission fee\, a love offering will be taken.
URL:https://briarwood.org/event/kiev-concert/
LOCATION:Worship Center\, 2200 Briarwood Way\, Birmingham\, 45243\, United States
CATEGORIES:Weekly Calendar
ORGANIZER;CN="Clay Campbell":MAILTO:ccampbell@briarwood.org
END:VEVENT
BEGIN:VEVENT
DTSTART;TZID=America/Chicago:20150719T180000
DTEND;TZID=America/Chicago:20150719T193000
DTSTAMP:20260421T084359
CREATED:20150720T154716Z
LAST-MODIFIED:20150720T154716Z
UID:24550-1437328800-1437334200@briarwood.org
SUMMARY:City-Wide Prayer Gathering
DESCRIPTION:In preparation for the Festival of Hope to be held Aug. 14–16 at Bartow Arena\, a City-Wide Prayer Gathering hosted by Briarwood and Greater Shiloh Missionary Baptist Church will be held. A time of prayer and worship with Pastor Reeder\, Pastor Michael Wesley and other leaders will guide us in this time of prayer for the needs of our city. Together\, we’ll share the power of the Gospel and celebrate the unity of the body of Christ.
URL:https://briarwood.org/event/city-wide-prayer-gathering/
LOCATION:Worship Center\, 2200 Briarwood Way\, Birmingham\, 45243\, United States
CATEGORIES:Weekly Calendar
END:VEVENT
BEGIN:VEVENT
DTSTART;TZID=America/Chicago:20150628T180000
DTEND;TZID=America/Chicago:20150628T193000
DTSTAMP:20260421T084359
CREATED:20150427T140303Z
LAST-MODIFIED:20220614T173659Z
UID:23598-1435514400-1435519800@briarwood.org
SUMMARY:Christianity in America
DESCRIPTION:CHRISTIANITY IN AMERICA CELEBRATION\nJune 28 • 6:00 P.M. • Worship Center \nMake plans now to attend this uplifting celebration of God’s hand in America’s history\, with music lead by our Chancel Choir and Festival Orchestra and the annual honoring of both our active service members and veterans.This year our keynote speaker will be Dr. Ben Carson. Dr. Carson is a noted author\, and at age 33 became the youngest doctor in the history of John Hopkins Hospital to serve as Director of Pediatric Neurosurgery and Co-director of the Craniofacial Center. Perhaps even more noteworthy is his humble yet courageous witness for Christ in the public square. While not an elected public official\, Dr. Carson has throughout the years provided an effective voice in speaking to matters of public policy. Since his thoughtful presentation at the 2013 National Prayer Breakfast\, he has increasingly and positively addressed crucial issues of national interest from a historically accurate and biblically informed world and life view. You won’t want to miss him!
URL:https://briarwood.org/event/christianity-in-america/
LOCATION:Worship Center\, 2200 Briarwood Way\, Birmingham\, 45243\, United States
ORGANIZER;CN="Clay Campbell":MAILTO:ccampbell@briarwood.org
END:VEVENT
BEGIN:VEVENT
DTSTART;TZID=America/Chicago:20150621T180000
DTEND;TZID=America/Chicago:20150621T193000
DTSTAMP:20260421T084359
CREATED:20150608T143505Z
LAST-MODIFIED:20150608T143505Z
UID:24048-1434909600-1434915000@briarwood.org
SUMMARY:Joni Eareckson Tada
DESCRIPTION:Briarwood welcomes special guest\, Joni Eareckson Tada to our evening service. Mrs. Tada is an internationally known mouth artist\, a talented vocalist\, a radio host\, an author of 17 books and an advocate for disabled persons worldwide. You’ll want to hear this outspoken Christian woman who has lived with quadriplegia since a diving accident in 1967. \nCome hear her inspirational story. Free admission.
URL:https://briarwood.org/event/joni-eareckson-tada/
LOCATION:Worship Center\, 2200 Briarwood Way\, Birmingham\, 45243\, United States
CATEGORIES:Weekly Calendar
END:VEVENT
BEGIN:VEVENT
DTSTART;TZID=America/Chicago:20150413T190000
DTEND;TZID=America/Chicago:20150413T210000
DTSTAMP:20260421T084359
CREATED:20150408T154052Z
LAST-MODIFIED:20150408T154052Z
UID:23382-1428951600-1428958800@briarwood.org
SUMMARY:Christian Life & Witness Course
DESCRIPTION:Reignite your faith and find power to live a life that radiates God’s love. Discover the victory He has for His children and equip yourself to share it with others through this dynamic course. You’ll also find practical help in reaching the next generation for Christ. \nThis course will be taught in the Worship Center from 7:00–9:00 p.m. by a representative of the Billy Graham Evangelistic Association in preparation for the Greater Birmingham Festival of Hope with Franklin Graham\, coming to Birmingham August 14–16. \nClick here to visit their website.
URL:https://briarwood.org/event/christian-life-witness-course/2015-04-13/
LOCATION:Worship Center\, 2200 Briarwood Way\, Birmingham\, 45243\, United States
CATEGORIES:Weekly Calendar
ORGANIZER;CN="Eric Reebals":MAILTO:ereebals@briarwood.org
END:VEVENT
BEGIN:VEVENT
DTSTART;TZID=America/Chicago:20150301T080000
DTEND;TZID=America/Chicago:20150301T190000
DTSTAMP:20260421T084359
CREATED:20140212T042553Z
LAST-MODIFIED:20150204T210834Z
UID:15745-1425196800-1425236400@briarwood.org
SUMMARY:Global Ministry Conference
DESCRIPTION:We invite you to join us for the 50th Annual Global Ministry Conference! We are privileged to host around 30 of our missionary families and hear from keynote speaker\, Doug Birdsall. \nSunday\, March 1  \n(Nursery open 8:00–12:15\, 6:00–7:30)*\n8:00 a.m.     Worship—Dr. Harry Reeder preaching—Faith Promise Commitment\n9:25 a.m.     Sunday School\n10:55 a.m.   Worship—Dr. Harry Reeder preaching—Faith Promise Commitment\n6:00 p.m.     Worship—Faith Promise Announcement
URL:https://briarwood.org/event/global-ministry-conference-6/
LOCATION:Worship Center\, 2200 Briarwood Way\, Birmingham\, 45243\, United States
CATEGORIES:Weekly Calendar
ORGANIZER;CN="Ginnie Lane":MAILTO:gmt@briarwood.org
END:VEVENT
BEGIN:VEVENT
DTSTART;TZID=America/Chicago:20141228T180000
DTEND;TZID=America/Chicago:20141228T190000
DTSTAMP:20260421T084359
CREATED:20141208T022717Z
LAST-MODIFIED:20141208T022717Z
UID:21513-1419789600-1419793200@briarwood.org
SUMMARY:Geoffrey Andrews in Concert
DESCRIPTION:
URL:https://briarwood.org/event/geoffrey-andrews-in-concert/
LOCATION:Worship Center\, 2200 Briarwood Way\, Birmingham\, 45243\, United States
CATEGORIES:Weekly Calendar
ORGANIZER;CN="Clay Campbell":MAILTO:ccampbell@briarwood.org
END:VEVENT
BEGIN:VEVENT
DTSTART;TZID=America/Chicago:20140503T090000
DTEND;TZID=America/Chicago:20140503T121500
DTSTAMP:20260421T084359
CREATED:20140303T185648Z
LAST-MODIFIED:20170829T203613Z
UID:16073-1399107600-1399119300@briarwood.org
SUMMARY:Heart of Parenting Conference
DESCRIPTION:Parenting Conference \n“Getting to the Heart of Parenting” with speaker Paul David Tripp\nFriday\, May 2\, 7:00–9:15 PM\nSaturday\, May 3\, 9:00 am–12:15 PM \nCost $10 per couple or single at heartofparenting.org. \nJoin us as Paul David Tripp gets to the heart of parenting with practical\, Gospel-Centered insight. Learn how to be an instrument of heart-changing grace in the lives of your children. \nPaul is a pastor\, author\, and international conference speaker and works to connect the transforming power of Jesus Christ to everyday life. He has authored 14 books including Age of Opportunity and Instruments in the Redeemer’s Hands. \nLearn more\, register and sign up for childcare online at heartofparenting.org.\nFree childcare for 2 year-olds–6th grade will be provided with reservations made by April 25. \n  \n 
URL:https://briarwood.org/event/heart-of-parenting-conference-2/
LOCATION:Worship Center\, 2200 Briarwood Way\, Birmingham\, 45243\, United States
CATEGORIES:Weekly Calendar
ORGANIZER;CN="Rachel Laster":MAILTO:rlaster@briarwood.org
END:VEVENT
BEGIN:VEVENT
DTSTART;TZID=America/Chicago:20140420T180000
DTEND;TZID=America/Chicago:20140420T193000
DTSTAMP:20260421T084359
CREATED:20140328T022315Z
LAST-MODIFIED:20140825T150402Z
UID:16459-1398016800-1398022200@briarwood.org
SUMMARY:GLAD in Concert
DESCRIPTION:Join us this Easter\,  as Christian recording group GLAD celebrates with us here at Briarwood. GLAD will sing in both the 8:00 and 10:55 morning services\, then present a concert of their music at 6 p.m. As Contemporary Christian Music magazine describes it\, “Nearly two decades ago\, GLAD’s elegant vocals helped set them apart from other pioneers of contemporary Christian music. That vocal sound has since evolved into a complex\, self-sustaining life form of it’s own…” Join us as we conclude Holy Week with this beloved Christian group!
URL:https://briarwood.org/event/glad-in-concert/
LOCATION:Worship Center\, 2200 Briarwood Way\, Birmingham\, 45243\, United States
CATEGORIES:Weekly Calendar
END:VEVENT
BEGIN:VEVENT
DTSTART;TZID=America/Chicago:20140413T180000
DTEND;TZID=America/Chicago:20140413T190000
DTSTAMP:20260421T084359
CREATED:20140328T023653Z
LAST-MODIFIED:20140331T195629Z
UID:16463-1397412000-1397415600@briarwood.org
SUMMARY:Children's Choir Concert
DESCRIPTION:Malice in the Palace\nBriarwood’s Children’s Choirs present the story of Esther\, Palm Sunday\,\nApril 13. Come hear our covenant children from the Preschool and\nElementary Choirs as they sing the praises of God and teach us\nabout an important believer from the Old Testament.
URL:https://briarwood.org/event/childrens-choir-concert/
LOCATION:Worship Center\, 2200 Briarwood Way\, Birmingham\, 45243\, United States
CATEGORIES:Weekly Calendar
END:VEVENT
BEGIN:VEVENT
DTSTART;TZID=America/Chicago:20130421T180000
DTEND;TZID=America/Chicago:20130421T190000
DTSTAMP:20260421T084359
CREATED:20130204T183024Z
LAST-MODIFIED:20130206T200759Z
UID:10908-1366567200-1366570800@briarwood.org
SUMMARY:Children’s Choirs Program
DESCRIPTION:The children’s choirs will present the musical “The Lost Boy.”
URL:https://briarwood.org/event/childrens-choirs-program/
LOCATION:Worship Center\, 2200 Briarwood Way\, Birmingham\, 45243\, United States
CATEGORIES:Weekly Calendar
END:VEVENT
BEGIN:VEVENT
DTSTART;TZID=America/Chicago:20130421T105500
DTEND;TZID=America/Chicago:20130421T121500
DTSTAMP:20260421T084359
CREATED:20130416T193856Z
LAST-MODIFIED:20130416T193856Z
UID:11947-1366541700-1366546500@briarwood.org
SUMMARY:Late Service
DESCRIPTION:Sunday Worship Services\nMorning Worship – 8:00 and 10:55 \nSunday School – 9:25 \nHispanic Worship – 10:45 \nKorean Worship – 12:00 \nJapanese Worship – 1:30 \nEvening Worship – 6:00 p.m. \n(Subject to change with special events) \nTogether\, we seek to “bless the Lord” in His house through corporate worship. \nIn addition to the preaching of God’s Word\, worship services at Briarwood include a blend of music styles from the time-honored hymns of the faith to contemporary choruses. The objective of worship at Briarwood is to exalt God as Creator\, Redeemer and Sustainer. Therefore\, we eagerly seek to offer music and worship with an excellence that would bring honor to His holy name. The Sunday Evening Fellowship Hour at Briarwood is a relaxed time together as God’s Word is again preached and we as a church family use hymns and spiritual songs of praise along with contemporary music to glorify God\, encourage one another and magnify the message of salvation by grace in God the Father through His Son our Savior Jesus Christ and by the Holy Spirit. \nClick here for location information.
URL:https://briarwood.org/event/late-service-4-2/2013-04-21/
LOCATION:Worship Center\, 2200 Briarwood Way\, Birmingham\, 45243\, United States
CATEGORIES:Weekly Calendar
END:VEVENT
BEGIN:VEVENT
DTSTART;TZID=America/Chicago:20130421T080000
DTEND;TZID=America/Chicago:20130421T091500
DTSTAMP:20260421T084359
CREATED:20130416T194217Z
LAST-MODIFIED:20140401T203916Z
UID:11949-1366531200-1366535700@briarwood.org
SUMMARY:Early Service
DESCRIPTION:Sunday Worship Services \nMorning Worship – 8:00 and 10:55 \nSunday School – 9:25 \nHispanic Worship – 10:45 \nKorean Worship – 12:00 \nJapanese Worship – 1:30 \nEvening Worship – 6:00 p.m. \n(Subject to change with special events) \n  \nTogether\, we seek to “bless the Lord” in His house through corporate worship. \n  \nIn addition to the preaching of God’s Word\, worship services at Briarwood include a blend of music styles from the time-honored hymns of the faith to contemporary choruses. The objective of worship at Briarwood is to exalt God as Creator\, Redeemer and Sustainer. Therefore\, we eagerly seek to offer music and worship with an excellence that would bring honor to His holy name. The Sunday Evening Fellowship Hour at Briarwood is a relaxed time together as God’s Word is again preached and we as a church family use hymns and spiritual songs of praise along with contemporary music to glorify God\, encourage one another and magnify the message of salvation by grace in God the Father through His Son our Savior Jesus Christ and by the Holy Spirit. \nClick here for location information.
URL:https://briarwood.org/event/early-service-3/2013-04-21/
LOCATION:Worship Center\, 2200 Briarwood Way\, Birmingham\, 45243\, United States
CATEGORIES:Weekly Calendar
END:VEVENT
BEGIN:VEVENT
DTSTART;TZID=America/Chicago:20120808T190000
DTEND;TZID=America/Chicago:20120808T203059
DTSTAMP:20260421T084359
CREATED:20120801T020017Z
LAST-MODIFIED:20120801T020017Z
UID:6666-1344452400-1344457859@briarwood.org
SUMMARY:Every Believer a Witness
DESCRIPTION:Come August 5-8 during the Sunday morning and evening services\, Monday\, Tuesday and Wednesday evenings from 6-7:30 p.m.to learn an exciting way to share your faith. \nJoin us for a Church-wide evangelism training that requires no books to read\, no DVDs to watch and nothing to memorize\, just an exciting way to share your faith. Admission is free and rising 2nd graders through adults are encouraged to come.\nMake Nursery reservations by July 31 at briarwwod.org/nursery.
URL:https://briarwood.org/event/every-believer-a-witness-4/
LOCATION:Worship Center\, 2200 Briarwood Way\, Birmingham\, 45243\, United States
CATEGORIES:Weekly Calendar
ORGANIZER;CN="Eric Reebals":MAILTO:ereebals@briarwood.org
END:VEVENT
BEGIN:VEVENT
DTSTART;TZID=America/Chicago:20120807T190000
DTEND;TZID=America/Chicago:20120807T203059
DTSTAMP:20260421T084359
CREATED:20120801T015930Z
LAST-MODIFIED:20120801T015930Z
UID:6665-1344366000-1344371459@briarwood.org
SUMMARY:Every Believer a Witness
DESCRIPTION:Come August 5-8 during the Sunday morning and evening services\, Monday\, Tuesday and Wednesday evenings from 6-7:30 p.m.to learn an exciting way to share your faith. \nJoin us for a Church-wide evangelism training that requires no books to read\, no DVDs to watch and nothing to memorize\, just an exciting way to share your faith. Admission is free and rising 2nd graders through adults are encouraged to come. \nMake Nursery reservations by July 31 at briarwwod.org/nursery.
URL:https://briarwood.org/event/every-believer-a-witness-3/
LOCATION:Worship Center\, 2200 Briarwood Way\, Birmingham\, 45243\, United States
CATEGORIES:Weekly Calendar
ORGANIZER;CN="Eric Reebals":MAILTO:ereebals@briarwood.org
END:VEVENT
BEGIN:VEVENT
DTSTART;TZID=America/Chicago:20120806T190000
DTEND;TZID=America/Chicago:20120806T203059
DTSTAMP:20260421T084359
CREATED:20120711T203248Z
LAST-MODIFIED:20120801T020328Z
UID:6240-1344279600-1344285059@briarwood.org
SUMMARY:Every Believer a Witness
DESCRIPTION:Come August 5-8 during the Sunday morning and evening services\, Monday\, Tuesday and Wednesday evenings from 6-7:30 p.m.to learn an exciting way to share your faith. \nJoin us for a Church-wide evangelism training that requires no books to read\, no DVDs to watch and nothing to memorize\, just an exciting way to share your faith. Admission is free and rising 2nd graders through adults are encouraged to come \n. Make Nursery reservations by July 31 at briarwwod.org/nursery.
URL:https://briarwood.org/event/every-believer-a-witness/2012-08-06/
LOCATION:Worship Center\, 2200 Briarwood Way\, Birmingham\, 45243\, United States
CATEGORIES:Weekly Calendar
ORGANIZER;CN="Eric Reebals":MAILTO:ereebals@briarwood.org
END:VEVENT
BEGIN:VEVENT
DTSTART;TZID=America/Chicago:20120805T180000
DTEND;TZID=America/Chicago:20120805T193059
DTSTAMP:20260421T084359
CREATED:20120711T203301Z
LAST-MODIFIED:20120801T020418Z
UID:6241-1344189600-1344195059@briarwood.org
SUMMARY:Every Believer a Witness
DESCRIPTION:Come August 5-8 during the Sunday morning and evening services\, Monday\, Tuesday and Wednesday evenings from 6-7:30 p.m.to learn an exciting way to share your faith. \nJoin us for a Church-wide evangelism training that requires no books to read\, no DVDs to watch and nothing to memorize\, just an exciting way to share your faith. Admission is free and rising 2nd graders through adults are encouraged to come. \nMake Nursery reservations by July 31 at briarwwod.org/nursery.
URL:https://briarwood.org/event/every-believer-a-witness-2/
LOCATION:Worship Center\, 2200 Briarwood Way\, Birmingham\, 45243\, United States
CATEGORIES:Weekly Calendar
ORGANIZER;CN="Eric Reebals":MAILTO:ereebals@briarwood.org
END:VEVENT
BEGIN:VEVENT
DTSTART;TZID=America/Chicago:20120701T180000
DTEND;TZID=America/Chicago:20120701T193059
DTSTAMP:20260421T084359
CREATED:20120620T195053Z
LAST-MODIFIED:20220614T173659Z
UID:3541-1341165600-1341171059@briarwood.org
SUMMARY:Christianity in America Rally
DESCRIPTION:Come and invite friends and family to our annual “Christianity in America” Rally on Sun.\, July 1 at 6:00 p.m. Historian and author Rod Gragg will be speaking on “Lessons in Leadership.” \nStay after the rally for a church wide fellowship.
URL:https://briarwood.org/event/3541/
LOCATION:Worship Center\, 2200 Briarwood Way\, Birmingham\, 45243\, United States
CATEGORIES:Weekly Calendar
ORGANIZER;CN="Dave Matthews":MAILTO:dmatthews@briarwood.org
END:VEVENT
END:VCALENDAR