BEGIN:VCALENDAR
VERSION:2.0
PRODID:-//Briarwood Ballet - ECPv6.5.1//NONSGML v1.0//EN
CALSCALE:GREGORIAN
METHOD:PUBLISH
X-WR-CALNAME:Briarwood Ballet
X-ORIGINAL-URL:https://briarwood.org/ballet
X-WR-CALDESC:Events for Briarwood Ballet
REFRESH-INTERVAL;VALUE=DURATION:PT1H
X-Robots-Tag:noindex
X-PUBLISHED-TTL:PT1H
BEGIN:VTIMEZONE
TZID:America/Chicago
BEGIN:DAYLIGHT
TZOFFSETFROM:-0600
TZOFFSETTO:-0500
TZNAME:CDT
DTSTART:20120311T080000
END:DAYLIGHT
BEGIN:STANDARD
TZOFFSETFROM:-0500
TZOFFSETTO:-0600
TZNAME:CST
DTSTART:20121104T070000
END:STANDARD
END:VTIMEZONE
BEGIN:VEVENT
DTSTART;TZID=America/Chicago:20120820T160000
DTEND;TZID=America/Chicago:20120820T173059
DTSTAMP:20260420T015850
CREATED:20120716T234705Z
LAST-MODIFIED:20120716T234705Z
UID:350-1345478400-1345483859@briarwood.org
SUMMARY:Jump Start class
DESCRIPTION:For Ballet 2-4\, USC-USD
URL:https://briarwood.org/ballet/event/jump-start-class-3/2012-08-20/
END:VEVENT
BEGIN:VEVENT
DTSTART;TZID=America/Chicago:20120820T160000
DTEND;TZID=America/Chicago:20120820T173059
DTSTAMP:20260420T015850
CREATED:20120716T235635Z
LAST-MODIFIED:20120716T235635Z
UID:351-1345478400-1345483859@briarwood.org
SUMMARY:Pointe class
DESCRIPTION:For new USB students – $50 for the 4-day class
URL:https://briarwood.org/ballet/event/pointe-class/2012-08-20/
LOCATION:Briarwood Presbyterian Church\, 2200 Briarwood Way\, Select a Country:
END:VEVENT
END:VCALENDAR